BEGIN:VCALENDAR
VERSION:2.0
PRODID:-//Mario E. Dorsonville Foundation - ECPv6.15.20//NONSGML v1.0//EN
CALSCALE:GREGORIAN
METHOD:PUBLISH
X-WR-CALNAME:Mario E. Dorsonville Foundation
X-ORIGINAL-URL:https://dorsonville.org
X-WR-CALDESC:Events for Mario E. Dorsonville Foundation
REFRESH-INTERVAL;VALUE=DURATION:PT1H
X-Robots-Tag:noindex
X-PUBLISHED-TTL:PT1H
BEGIN:VTIMEZONE
TZID:UTC
BEGIN:STANDARD
TZOFFSETFROM:+0000
TZOFFSETTO:+0000
TZNAME:UTC
DTSTART:20230101T000000
END:STANDARD
END:VTIMEZONE
BEGIN:VEVENT
DTSTART;TZID=UTC:20260412T140000
DTEND;TZID=UTC:20260412T160000
DTSTAMP:20260419T115313
CREATED:20250903T005303Z
LAST-MODIFIED:20250916T152402Z
UID:1012-1776002400-1776009600@dorsonville.org
SUMMARY:Homeless Mission Trip - April 12\, 2026
DESCRIPTION:To RSVP\, Click here.
URL:https://dorsonville.org/event/homeless-mission-trip-april-12-26/
LOCATION:Pan American Health Organization building\, 525 23rd St NW\, Washington\, DC\, United States
CATEGORIES:All Events,Homeless Mission Trips
ATTACH;FMTTYPE=image/jpeg:https://dorsonville.org/wp-content/uploads/2024/05/Courtney_CoreImage-1.jpg
END:VEVENT
BEGIN:VEVENT
DTSTART;TZID=UTC:20260322T140000
DTEND;TZID=UTC:20260322T160000
DTSTAMP:20260419T115313
CREATED:20250903T005149Z
LAST-MODIFIED:20250916T152340Z
UID:1009-1774188000-1774195200@dorsonville.org
SUMMARY:Homeless Mission Trip - March 22\, 2026
DESCRIPTION:To RSVP\, Click here.
URL:https://dorsonville.org/event/homeless-mission-trip-mar-22-26/
LOCATION:Pan American Health Organization building\, 525 23rd St NW\, Washington\, DC\, United States
CATEGORIES:All Events,Homeless Mission Trips
ATTACH;FMTTYPE=image/jpeg:https://dorsonville.org/wp-content/uploads/2024/05/Courtney_CoreImage-1.jpg
END:VEVENT
BEGIN:VEVENT
DTSTART;TZID=UTC:20260308T140000
DTEND;TZID=UTC:20260308T160000
DTSTAMP:20260419T115313
CREATED:20250903T004938Z
LAST-MODIFIED:20250916T152326Z
UID:1006-1772978400-1772985600@dorsonville.org
SUMMARY:Homeless Mission Trip - March 8\, 2026
DESCRIPTION:To RSVP\, Click here.
URL:https://dorsonville.org/event/homeless-mission-trip-mar-8-26/
LOCATION:Pan American Health Organization building\, 525 23rd St NW\, Washington\, DC\, United States
CATEGORIES:All Events,Homeless Mission Trips
ATTACH;FMTTYPE=image/jpeg:https://dorsonville.org/wp-content/uploads/2024/05/Courtney_CoreImage-1.jpg
END:VEVENT
BEGIN:VEVENT
DTSTART;TZID=UTC:20260222T140000
DTEND;TZID=UTC:20260222T160000
DTSTAMP:20260419T115313
CREATED:20250903T004703Z
LAST-MODIFIED:20250916T152306Z
UID:1002-1771768800-1771776000@dorsonville.org
SUMMARY:Homeless Mission Trip - February 22\, 2026
DESCRIPTION:To RSVP\, Click here.
URL:https://dorsonville.org/event/homeless-mission-trip-feb-22-26/
LOCATION:Pan American Health Organization building\, 525 23rd St NW\, Washington\, DC\, United States
CATEGORIES:All Events,Homeless Mission Trips
ATTACH;FMTTYPE=image/jpeg:https://dorsonville.org/wp-content/uploads/2024/05/Courtney_CoreImage-1.jpg
END:VEVENT
BEGIN:VEVENT
DTSTART;TZID=UTC:20260208T140000
DTEND;TZID=UTC:20260208T160000
DTSTAMP:20260419T115313
CREATED:20250903T004618Z
LAST-MODIFIED:20250916T152245Z
UID:999-1770559200-1770566400@dorsonville.org
SUMMARY:Homeless Mission Trip - February 8\, 2026
DESCRIPTION:To RSVP\, Click here.
URL:https://dorsonville.org/event/homeless-mission-trip-feb-8-26/
LOCATION:Pan American Health Organization building\, 525 23rd St NW\, Washington\, DC\, United States
CATEGORIES:All Events,Homeless Mission Trips
ATTACH;FMTTYPE=image/jpeg:https://dorsonville.org/wp-content/uploads/2024/05/Courtney_CoreImage-1.jpg
END:VEVENT
BEGIN:VEVENT
DTSTART;TZID=UTC:20260125T140000
DTEND;TZID=UTC:20260125T160000
DTSTAMP:20260419T115313
CREATED:20250903T004359Z
LAST-MODIFIED:20250916T152224Z
UID:996-1769349600-1769356800@dorsonville.org
SUMMARY:Homeless Mission Trip - January 25\, 2026
DESCRIPTION:To RSVP\, Click here.
URL:https://dorsonville.org/event/homeless-mission-trip-jan-25-26/
LOCATION:Pan American Health Organization building\, 525 23rd St NW\, Washington\, DC\, United States
CATEGORIES:All Events,Homeless Mission Trips
ATTACH;FMTTYPE=image/jpeg:https://dorsonville.org/wp-content/uploads/2024/05/Courtney_CoreImage-1.jpg
END:VEVENT
BEGIN:VEVENT
DTSTART;TZID=UTC:20260123T200000
DTEND;TZID=UTC:20260123T233000
DTSTAMP:20260419T115313
CREATED:20251119T193334Z
LAST-MODIFIED:20260116T143348Z
UID:1109-1769198400-1769211000@dorsonville.org
SUMMARY:IGNIGHT - January 23\, 2026
DESCRIPTION:The Mario E. Dorsonville Foundation Presents \nIGNIGHT \nFriday\, January 23\, 2026 | 8 PM – Midnight \nThe Georgetown Club \n1530 Wisconsin Ave NW\, Washington\, DC\,. \n$109/Person \nOpen Bar | Heavy Hors d’oeuvres \nYou are cordially invited to the Mario E. Dorsonville Foundation’s flagship fundraiser which advances our efforts in providing essential supplies to the D.C. homeless community throughout the fall and winter season. Not only is this the most impactful fundraiser for the homeless in the city\, it’s a celebration of friends and young catholic professionals beginning their philanthropic efforts. \nAll proceeds from IGNIGHT go directly to the Homeless Mission where\, on a bi-weekly basis\, Homeless Mission volunteers visit various parks in the D.C. area\, offering food\, supplies\, and friendship to those in need. Mission trip organizers bring an abundance of necessities for volunteers to distribute such as socks\, coats\, toothbrushes\, hats\, and gloves. Volunteers also serve hot chocolate and soup on cold days.
URL:https://dorsonville.org/event/ignight-january-23-2026/
LOCATION:Cafe Milano\, 3251 Prospect Street NW\, Washington\, DC\, 20015\, United States
CATEGORIES:All Events,Fundraisers
ATTACH;FMTTYPE=image/jpeg:https://dorsonville.org/wp-content/uploads/2024/05/IGNIGHT_CoreImage.jpg
END:VEVENT
BEGIN:VEVENT
DTSTART;TZID=UTC:20260111T140000
DTEND;TZID=UTC:20260111T160000
DTSTAMP:20260419T115313
CREATED:20250902T190550Z
LAST-MODIFIED:20250916T152157Z
UID:993-1768140000-1768147200@dorsonville.org
SUMMARY:Homeless Mission Trip - January 11\, 2026
DESCRIPTION:To RSVP\, Click here.
URL:https://dorsonville.org/event/homeless-mission-trip-jan-11-26/
LOCATION:Pan American Health Organization building\, 525 23rd St NW\, Washington\, DC\, United States
CATEGORIES:All Events,Homeless Mission Trips
ATTACH;FMTTYPE=image/jpeg:https://dorsonville.org/wp-content/uploads/2024/05/Courtney_CoreImage-1.jpg
END:VEVENT
BEGIN:VEVENT
DTSTART;TZID=UTC:20251221T140000
DTEND;TZID=UTC:20251221T160000
DTSTAMP:20260419T115313
CREATED:20250902T190123Z
LAST-MODIFIED:20250916T152138Z
UID:990-1766325600-1766332800@dorsonville.org
SUMMARY:Homeless Mission Trip - December 21\, 2025
DESCRIPTION:To RSVP\, Click here.
URL:https://dorsonville.org/event/homeless-mission-trip-dec-21-25/
LOCATION:Pan American Health Organization building\, 525 23rd St NW\, Washington\, DC\, United States
CATEGORIES:All Events,Homeless Mission Trips
ATTACH;FMTTYPE=image/jpeg:https://dorsonville.org/wp-content/uploads/2024/05/Courtney_CoreImage-1.jpg
END:VEVENT
BEGIN:VEVENT
DTSTART;TZID=UTC:20251207T140000
DTEND;TZID=UTC:20251207T160000
DTSTAMP:20260419T115313
CREATED:20250826T232905Z
LAST-MODIFIED:20250916T152120Z
UID:987-1765116000-1765123200@dorsonville.org
SUMMARY:Homeless Mission Trip - December 7\, 2025
DESCRIPTION:To RSVP\, Click here.
URL:https://dorsonville.org/event/homeless-mission-trip-dec-7-25/
LOCATION:Pan American Health Organization building\, 525 23rd St NW\, Washington\, DC\, United States
CATEGORIES:All Events,Homeless Mission Trips
ATTACH;FMTTYPE=image/jpeg:https://dorsonville.org/wp-content/uploads/2024/05/Courtney_CoreImage-1.jpg
END:VEVENT
BEGIN:VEVENT
DTSTART;TZID=UTC:20251123T140000
DTEND;TZID=UTC:20251123T160000
DTSTAMP:20260419T115313
CREATED:20250826T232414Z
LAST-MODIFIED:20250916T152056Z
UID:984-1763906400-1763913600@dorsonville.org
SUMMARY:Homeless Mission Trip - November 23\, 2025
DESCRIPTION:To RSVP\, Click here.
URL:https://dorsonville.org/event/homeless-mission-trip-nov-23-25/
LOCATION:Pan American Health Organization building\, 525 23rd St NW\, Washington\, DC\, United States
CATEGORIES:All Events,Homeless Mission Trips
ATTACH;FMTTYPE=image/jpeg:https://dorsonville.org/wp-content/uploads/2024/05/Courtney_CoreImage-1.jpg
END:VEVENT
BEGIN:VEVENT
DTSTART;TZID=UTC:20251109T140000
DTEND;TZID=UTC:20251109T160000
DTSTAMP:20260419T115313
CREATED:20250826T224956Z
LAST-MODIFIED:20250916T151920Z
UID:981-1762696800-1762704000@dorsonville.org
SUMMARY:Homeless Mission Trip - November 9\, 2025
DESCRIPTION:To RSVP\, Click here.
URL:https://dorsonville.org/event/homeless-mission-trip-nov-9-25/
LOCATION:Pan American Health Organization building\, 525 23rd St NW\, Washington\, DC\, United States
CATEGORIES:All Events,Homeless Mission Trips
ATTACH;FMTTYPE=image/jpeg:https://dorsonville.org/wp-content/uploads/2024/05/Courtney_CoreImage-1.jpg
END:VEVENT
BEGIN:VEVENT
DTSTART;TZID=UTC:20251019T170000
DTEND;TZID=UTC:20251019T210000
DTSTAMP:20260419T115313
CREATED:20250723T183524Z
LAST-MODIFIED:20250916T165119Z
UID:939-1760893200-1760907600@dorsonville.org
SUMMARY:The Mario E. Dorsonville Foundation Dinner
DESCRIPTION:Please join us for Mass and Dinner commemorating the life of the late Bishop Mario E. Dorsonville. \nThe Holy Sacrifice of the Mass will be at 1 PM at The Cathedral of Saint Matthew the Apostle. \nA fundraising dinner will be held later that evening at Cafe Milano in Washington\, DC. To buy a ticket\, click here. 
URL:https://dorsonville.org/event/mario-e-dorsonville-memorial-mass-2/
LOCATION:Cafe Milano\, 3251 Prospect Street NW\, Washington\, DC\, 20015\, United States
CATEGORIES:All Events,Fundraisers
ATTACH;FMTTYPE=image/jpeg:https://dorsonville.org/wp-content/uploads/2025/09/IMG_5873-1-scaled.jpg
END:VEVENT
BEGIN:VEVENT
DTSTART;TZID=UTC:20251019T140000
DTEND;TZID=UTC:20251019T160000
DTSTAMP:20260419T115313
CREATED:20250826T224333Z
LAST-MODIFIED:20250916T151852Z
UID:978-1760882400-1760889600@dorsonville.org
SUMMARY:Homeless Mission Trip - October 19\, 2025
DESCRIPTION:To RSVP\, Click here.
URL:https://dorsonville.org/event/homeless-mission-trip-oct-19-25/
LOCATION:Pan American Health Organization building\, 525 23rd St NW\, Washington\, DC\, United States
CATEGORIES:All Events,Homeless Mission Trips
ATTACH;FMTTYPE=image/jpeg:https://dorsonville.org/wp-content/uploads/2024/05/Courtney_CoreImage-1.jpg
END:VEVENT
BEGIN:VEVENT
DTSTART;TZID=UTC:20251005T140000
DTEND;TZID=UTC:20251005T160000
DTSTAMP:20260419T115313
CREATED:20250826T224148Z
LAST-MODIFIED:20250916T151615Z
UID:975-1759672800-1759680000@dorsonville.org
SUMMARY:Homeless Mission Trip - October 5\, 2025
DESCRIPTION:To RSVP\, Click here.
URL:https://dorsonville.org/event/homeless-mission-trip-oct-5-25/
LOCATION:Pan American Health Organization building\, 525 23rd St NW\, Washington\, DC\, United States
CATEGORIES:All Events,Homeless Mission Trips
ATTACH;FMTTYPE=image/jpeg:https://dorsonville.org/wp-content/uploads/2024/05/Courtney_CoreImage-1.jpg
END:VEVENT
BEGIN:VEVENT
DTSTART;TZID=UTC:20250928T140000
DTEND;TZID=UTC:20250928T160000
DTSTAMP:20260419T115313
CREATED:20250826T223819Z
LAST-MODIFIED:20250916T150914Z
UID:971-1759068000-1759075200@dorsonville.org
SUMMARY:Homeless Mission Trip - September 28\, 2025
DESCRIPTION:To RSVP\, Click here.
URL:https://dorsonville.org/event/homeless-mission-trip-sept-28-25/
LOCATION:Pan American Health Organization building\, 525 23rd St NW\, Washington\, DC\, United States
CATEGORIES:All Events,Homeless Mission Trips
ATTACH;FMTTYPE=image/jpeg:https://dorsonville.org/wp-content/uploads/2024/05/Courtney_CoreImage-1.jpg
END:VEVENT
BEGIN:VEVENT
DTSTART;TZID=UTC:20250820T170000
DTEND;TZID=UTC:20250820T190000
DTSTAMP:20260419T115313
CREATED:20250723T183808Z
LAST-MODIFIED:20250723T183808Z
UID:943-1755709200-1755716400@dorsonville.org
SUMMARY:New Homeless Mission Leadership Happy Hour
DESCRIPTION:
URL:https://dorsonville.org/event/mario-e-dorsonville-memorial-mass-2-2/
LOCATION:DC
CATEGORIES:All Events,Fundraisers
END:VEVENT
BEGIN:VEVENT
DTSTART;TZID=UTC:20250504T140000
DTEND;TZID=UTC:20250504T160000
DTSTAMP:20260419T115313
CREATED:20240819T202905Z
LAST-MODIFIED:20240819T202905Z
UID:824-1746367200-1746374400@dorsonville.org
SUMMARY:Homeless Mission Trip - May 4\, 2025
DESCRIPTION:
URL:https://dorsonville.org/event/homeless-mission-trip-may-4/
LOCATION:Pan American Health Organization building\, 525 23rd St NW\, Washington\, DC\, United States
CATEGORIES:All Events,Homeless Mission Trips
ATTACH;FMTTYPE=image/jpeg:https://dorsonville.org/wp-content/uploads/2024/05/Courtney_CoreImage-1.jpg
END:VEVENT
BEGIN:VEVENT
DTSTART;TZID=UTC:20250427T140000
DTEND;TZID=UTC:20250427T160000
DTSTAMP:20260419T115313
CREATED:20240819T202753Z
LAST-MODIFIED:20240819T202753Z
UID:820-1745762400-1745769600@dorsonville.org
SUMMARY:Homeless Mission Trip - April 27\, 2025
DESCRIPTION:
URL:https://dorsonville.org/event/homeless-mission-trip-april-27-25/
LOCATION:Pan American Health Organization building\, 525 23rd St NW\, Washington\, DC\, United States
CATEGORIES:All Events,Homeless Mission Trips
ATTACH;FMTTYPE=image/jpeg:https://dorsonville.org/wp-content/uploads/2024/05/Courtney_CoreImage-1.jpg
END:VEVENT
BEGIN:VEVENT
DTSTART;TZID=UTC:20250413T140000
DTEND;TZID=UTC:20250413T160000
DTSTAMP:20260419T115313
CREATED:20240819T202531Z
LAST-MODIFIED:20240819T202531Z
UID:817-1744552800-1744560000@dorsonville.org
SUMMARY:Homeless Mission Trip - April 13\, 2025
DESCRIPTION:
URL:https://dorsonville.org/event/homeless-mission-trip-april-13-25/
LOCATION:Pan American Health Organization building\, 525 23rd St NW\, Washington\, DC\, United States
CATEGORIES:All Events,Homeless Mission Trips
ATTACH;FMTTYPE=image/jpeg:https://dorsonville.org/wp-content/uploads/2024/05/Courtney_CoreImage-1.jpg
END:VEVENT
BEGIN:VEVENT
DTSTART;TZID=UTC:20250323T140000
DTEND;TZID=UTC:20250323T160000
DTSTAMP:20260419T115313
CREATED:20240819T202437Z
LAST-MODIFIED:20240819T202437Z
UID:814-1742738400-1742745600@dorsonville.org
SUMMARY:Homeless Mission Trip - March 23\, 2025
DESCRIPTION:
URL:https://dorsonville.org/event/homeless-mission-trip-march-23-25/
LOCATION:Pan American Health Organization building\, 525 23rd St NW\, Washington\, DC\, United States
CATEGORIES:All Events,Homeless Mission Trips
ATTACH;FMTTYPE=image/jpeg:https://dorsonville.org/wp-content/uploads/2024/05/Courtney_CoreImage-1.jpg
END:VEVENT
BEGIN:VEVENT
DTSTART;TZID=UTC:20250309T140000
DTEND;TZID=UTC:20250309T160000
DTSTAMP:20260419T115313
CREATED:20240819T201909Z
LAST-MODIFIED:20240819T201909Z
UID:811-1741528800-1741536000@dorsonville.org
SUMMARY:Homeless Mission Trip - March 9\, 2025
DESCRIPTION:
URL:https://dorsonville.org/event/homeless-mission-trip-march-9/
LOCATION:Pan American Health Organization building\, 525 23rd St NW\, Washington\, DC\, United States
CATEGORIES:All Events,Homeless Mission Trips
ATTACH;FMTTYPE=image/jpeg:https://dorsonville.org/wp-content/uploads/2024/05/Courtney_CoreImage-1.jpg
END:VEVENT
BEGIN:VEVENT
DTSTART;TZID=UTC:20250223T140000
DTEND;TZID=UTC:20250223T160000
DTSTAMP:20260419T115313
CREATED:20240819T201742Z
LAST-MODIFIED:20240819T201742Z
UID:808-1740319200-1740326400@dorsonville.org
SUMMARY:Homeless Mission Trip - February 23\, 2025
DESCRIPTION:
URL:https://dorsonville.org/event/homeless-mission-trip-feb-23-25/
LOCATION:Pan American Health Organization building\, 525 23rd St NW\, Washington\, DC\, United States
CATEGORIES:All Events,Homeless Mission Trips
ATTACH;FMTTYPE=image/jpeg:https://dorsonville.org/wp-content/uploads/2024/05/Courtney_CoreImage-1.jpg
END:VEVENT
BEGIN:VEVENT
DTSTART;TZID=UTC:20250209T140000
DTEND;TZID=UTC:20250209T160000
DTSTAMP:20260419T115313
CREATED:20240819T175302Z
LAST-MODIFIED:20240819T175302Z
UID:796-1739109600-1739116800@dorsonville.org
SUMMARY:Homeless Mission Trip - February 9\, 2025
DESCRIPTION:
URL:https://dorsonville.org/event/homeless-mission-trip-feb-9-25/
LOCATION:Pan American Health Organization building\, 525 23rd St NW\, Washington\, DC\, United States
CATEGORIES:All Events,Homeless Mission Trips
ATTACH;FMTTYPE=image/jpeg:https://dorsonville.org/wp-content/uploads/2024/05/Courtney_CoreImage-1.jpg
END:VEVENT
BEGIN:VEVENT
DTSTART;TZID=UTC:20250126T140000
DTEND;TZID=UTC:20250126T160000
DTSTAMP:20260419T115313
CREATED:20240625T193232Z
LAST-MODIFIED:20240819T175354Z
UID:627-1737900000-1737907200@dorsonville.org
SUMMARY:Homeless Mission Trip - January 26\, 2025
DESCRIPTION:
URL:https://dorsonville.org/event/homeless-mission-trip-jan-26-25/
LOCATION:Pan American Health Organization building\, 525 23rd St NW\, Washington\, DC\, United States
CATEGORIES:All Events,Homeless Mission Trips
ATTACH;FMTTYPE=image/jpeg:https://dorsonville.org/wp-content/uploads/2024/05/Courtney_CoreImage-1.jpg
END:VEVENT
BEGIN:VEVENT
DTSTART;TZID=UTC:20250119T163000
DTEND;TZID=UTC:20250119T173000
DTSTAMP:20260419T115313
CREATED:20240625T194744Z
LAST-MODIFIED:20250114T170843Z
UID:638-1737304200-1737307800@dorsonville.org
SUMMARY:Mario E. Dorsonville Memorial Mass & Dinner
DESCRIPTION:Please join us for a Memorial Mass commemorating the life of the late Bishop Mario E. Dorsonville. \nThe Holy Sacrifice of the Mass will be offered by The Most Reverend Evellio Menjivar-Ayala at 4:30 PM at Our Lady of Lourdes in Bethesda\, Maryland. \nA fundraising dinner will be held immediately after Mass at La Ferme Restaurant in Chevy Chase. For tickets\, click here.
URL:https://dorsonville.org/event/mario-e-dorsonville-memorial-mass/
LOCATION:Our Lady of Lourdes\, 7500 Pearl Street\, Bethesda\, MD\, 20814\, United States
CATEGORIES:All Events,Fundraisers
ATTACH;FMTTYPE=image/jpeg:https://dorsonville.org/wp-content/uploads/2024/05/Migration_CoreImage-e1716325038499.jpg
END:VEVENT
BEGIN:VEVENT
DTSTART;TZID=UTC:20250112T140000
DTEND;TZID=UTC:20250112T160000
DTSTAMP:20260419T115313
CREATED:20240625T193525Z
LAST-MODIFIED:20240625T193634Z
UID:631-1736690400-1736697600@dorsonville.org
SUMMARY:Homeless Mission Trip - January 12\, 2025
DESCRIPTION:
URL:https://dorsonville.org/event/homeless-mission-trip-jan-12-25/
LOCATION:Pan American Health Organization building\, 525 23rd St NW\, Washington\, DC\, United States
CATEGORIES:All Events,Homeless Mission Trips
ATTACH;FMTTYPE=image/jpeg:https://dorsonville.org/wp-content/uploads/2024/05/Courtney_CoreImage-1.jpg
END:VEVENT
BEGIN:VEVENT
DTSTART;TZID=UTC:20250110T200000
DTEND;TZID=UTC:20250110T233000
DTSTAMP:20260419T115313
CREATED:20240625T194157Z
LAST-MODIFIED:20240716T182620Z
UID:635-1736539200-1736551800@dorsonville.org
SUMMARY:IGNIGHT - January 10\, 2025
DESCRIPTION:The Mario E. Dorsonville Foundation Presents \nIGNIGHT \nFriday\, January 10\, 2025 | 8 PM – Midnight \nCafe Milano \n3251 Prospect Street NW\, Washington\, D.C. \n$99/Person \nOpen Bar | Heavy Hors d’oeuvres \nYou are cordially invited to the Mario E. Dorsonville Foundation’s flagship fundraiser which advances our efforts in providing essential supplies to the D.C. homeless community throughout the fall and winter season. Not only is this the most impactful fundraiser for the homeless in the city\, it’s a celebration of friends and young catholic professionals beginning their philanthropic efforts. \nAll proceeds from IGNIGHT go directly to the Homeless Mission where\, on a bi-weekly basis\, Homeless Mission volunteers visit various parks in the D.C. area\, offering food\, supplies\, and friendship to those in need. Mission trip organizers bring an abundance of necessities for volunteers to distribute such as socks\, coats\, toothbrushes\, hats\, gloves\, even tablets. Volunteers also serve hot chocolate and soup on cold days. \nAll tickets are non-refundable. \nREGISTER NOW
URL:https://dorsonville.org/event/ignight-january-10-2025/
LOCATION:Cafe Milano\, 3251 Prospect Street NW\, Washington\, DC\, 20015\, United States
CATEGORIES:All Events,Fundraisers
ATTACH;FMTTYPE=image/jpeg:https://dorsonville.org/wp-content/uploads/2024/05/IGNIGHT_CoreImage.jpg
END:VEVENT
BEGIN:VEVENT
DTSTART;TZID=UTC:20241208T140000
DTEND;TZID=UTC:20241208T160000
DTSTAMP:20260419T115313
CREATED:20240625T193044Z
LAST-MODIFIED:20240819T175414Z
UID:621-1733666400-1733673600@dorsonville.org
SUMMARY:Homeless Mission Trip - December 8\, 2024
DESCRIPTION:
URL:https://dorsonville.org/event/homeless-mission-trip-dec-8-24/
LOCATION:Pan American Health Organization building\, 525 23rd St NW\, Washington\, DC\, United States
CATEGORIES:All Events,Homeless Mission Trips
ATTACH;FMTTYPE=image/jpeg:https://dorsonville.org/wp-content/uploads/2024/05/Courtney_CoreImage-1.jpg
END:VEVENT
BEGIN:VEVENT
DTSTART;TZID=UTC:20241124T140000
DTEND;TZID=UTC:20241124T160000
DTSTAMP:20260419T115313
CREATED:20240625T192932Z
LAST-MODIFIED:20240819T175437Z
UID:618-1732456800-1732464000@dorsonville.org
SUMMARY:Homeless Mission Trip - November 24\, 2024
DESCRIPTION:
URL:https://dorsonville.org/event/homeless-mission-trip-nov-24-24/
LOCATION:Pan American Health Organization building\, 525 23rd St NW\, Washington\, DC\, United States
CATEGORIES:All Events,Homeless Mission Trips
ATTACH;FMTTYPE=image/jpeg:https://dorsonville.org/wp-content/uploads/2024/05/Courtney_CoreImage-1.jpg
END:VEVENT
END:VCALENDAR