BEGIN:VCALENDAR
VERSION:2.0
PRODID:-//Mario E. Dorsonville Foundation - ECPv6.15.20//NONSGML v1.0//EN
CALSCALE:GREGORIAN
METHOD:PUBLISH
X-ORIGINAL-URL:https://dorsonville.org
X-WR-CALDESC:Events for Mario E. Dorsonville Foundation
REFRESH-INTERVAL;VALUE=DURATION:PT1H
X-Robots-Tag:noindex
X-PUBLISHED-TTL:PT1H
BEGIN:VTIMEZONE
TZID:UTC
BEGIN:STANDARD
TZOFFSETFROM:+0000
TZOFFSETTO:+0000
TZNAME:UTC
DTSTART:20240101T000000
END:STANDARD
END:VTIMEZONE
BEGIN:VEVENT
DTSTART;TZID=UTC:20250110T200000
DTEND;TZID=UTC:20250110T233000
DTSTAMP:20260420T201956
CREATED:20240625T194157Z
LAST-MODIFIED:20240716T182620Z
UID:635-1736539200-1736551800@dorsonville.org
SUMMARY:IGNIGHT - January 10\, 2025
DESCRIPTION:The Mario E. Dorsonville Foundation Presents \nIGNIGHT \nFriday\, January 10\, 2025 | 8 PM – Midnight \nCafe Milano \n3251 Prospect Street NW\, Washington\, D.C. \n$99/Person \nOpen Bar | Heavy Hors d’oeuvres \nYou are cordially invited to the Mario E. Dorsonville Foundation’s flagship fundraiser which advances our efforts in providing essential supplies to the D.C. homeless community throughout the fall and winter season. Not only is this the most impactful fundraiser for the homeless in the city\, it’s a celebration of friends and young catholic professionals beginning their philanthropic efforts. \nAll proceeds from IGNIGHT go directly to the Homeless Mission where\, on a bi-weekly basis\, Homeless Mission volunteers visit various parks in the D.C. area\, offering food\, supplies\, and friendship to those in need. Mission trip organizers bring an abundance of necessities for volunteers to distribute such as socks\, coats\, toothbrushes\, hats\, gloves\, even tablets. Volunteers also serve hot chocolate and soup on cold days. \nAll tickets are non-refundable. \nREGISTER NOW
URL:https://dorsonville.org/event/ignight-january-10-2025/
LOCATION:Cafe Milano\, 3251 Prospect Street NW\, Washington\, DC\, 20015\, United States
CATEGORIES:All Events,Fundraisers
ATTACH;FMTTYPE=image/jpeg:https://dorsonville.org/wp-content/uploads/2024/05/IGNIGHT_CoreImage.jpg
END:VEVENT
END:VCALENDAR