BEGIN:VCALENDAR
VERSION:2.0
PRODID:-//Mario E. Dorsonville Foundation - ECPv6.15.20//NONSGML v1.0//EN
CALSCALE:GREGORIAN
METHOD:PUBLISH
X-WR-CALNAME:Mario E. Dorsonville Foundation
X-ORIGINAL-URL:https://dorsonville.org
X-WR-CALDESC:Events for Mario E. Dorsonville Foundation
REFRESH-INTERVAL;VALUE=DURATION:PT1H
X-Robots-Tag:noindex
X-PUBLISHED-TTL:PT1H
BEGIN:VTIMEZONE
TZID:UTC
BEGIN:STANDARD
TZOFFSETFROM:+0000
TZOFFSETTO:+0000
TZNAME:UTC
DTSTART:20250101T000000
END:STANDARD
END:VTIMEZONE
BEGIN:VEVENT
DTSTART;TZID=UTC:20260123T200000
DTEND;TZID=UTC:20260123T233000
DTSTAMP:20260419T223545
CREATED:20251119T193334Z
LAST-MODIFIED:20260116T143348Z
UID:1109-1769198400-1769211000@dorsonville.org
SUMMARY:IGNIGHT - January 23\, 2026
DESCRIPTION:The Mario E. Dorsonville Foundation Presents \nIGNIGHT \nFriday\, January 23\, 2026 | 8 PM – Midnight \nThe Georgetown Club \n1530 Wisconsin Ave NW\, Washington\, DC\,. \n$109/Person \nOpen Bar | Heavy Hors d’oeuvres \nYou are cordially invited to the Mario E. Dorsonville Foundation’s flagship fundraiser which advances our efforts in providing essential supplies to the D.C. homeless community throughout the fall and winter season. Not only is this the most impactful fundraiser for the homeless in the city\, it’s a celebration of friends and young catholic professionals beginning their philanthropic efforts. \nAll proceeds from IGNIGHT go directly to the Homeless Mission where\, on a bi-weekly basis\, Homeless Mission volunteers visit various parks in the D.C. area\, offering food\, supplies\, and friendship to those in need. Mission trip organizers bring an abundance of necessities for volunteers to distribute such as socks\, coats\, toothbrushes\, hats\, and gloves. Volunteers also serve hot chocolate and soup on cold days.
URL:https://dorsonville.org/event/ignight-january-23-2026/
LOCATION:Cafe Milano\, 3251 Prospect Street NW\, Washington\, DC\, 20015\, United States
CATEGORIES:All Events,Fundraisers
ATTACH;FMTTYPE=image/jpeg:https://dorsonville.org/wp-content/uploads/2024/05/IGNIGHT_CoreImage.jpg
END:VEVENT
END:VCALENDAR